BEGIN:VCALENDAR
VERSION:2.0
PRODID:-//ChamberMaster//Event Calendar 2.0//EN
METHOD:PUBLISH
X-PUBLISHED-TTL:P3D
REFRESH-INTERVAL:P3D
CALSCALE:GREGORIAN
BEGIN:VEVENT
DTSTART:20111008T173000Z
DTEND:20111008T200000Z
X-MICROSOFT-CDO-ALLDAYEVENT:FALSE
SUMMARY:HERBS AND GREENS WORKSHOP
DESCRIPTION:$38 + $7 supplies fee\nClick http://herbsandgreens.eventbrite.com to register or call 650-493-6072\nIt's time to fill our gardens with plantings of "herbs and greens" for bountiful harvests this autumn\, winter and spring! Herbs and greens have more in common than one might think. Both are easy to grow and loaded with nutrition and vitality. They are handy to have in our backyard gardens\, and complement each other with a variety of textures and fragrance. In the kitchen\, they complement each other with an endless variety of flavors. Learn to grow\, harvest and cook up herbs and greens for a delicious Asian dish or a savory Italian dish. Tasty samples\, plant lists and recipes are included\, and everyone will plant herbs and greens to take home.
X-ALT-DESC;FMTTYPE=text/html:$38 + $7 supplies fee\nClick http://herbsandgreens.eventbrite.com to register or call 650-493-6072\nIt's time to fill our gardens with plantings of "herbs and greens" for bountiful harvests this autumn\, winter and spring! Herbs and greens have more in common than one might think. Both are easy to grow and loaded with nutrition and vitality. They are handy to have in our backyard gardens\, and complement each other with a variety of textures and fragrance. In the kitchen\, they complement each other with an endless variety of flavors. Learn to grow\, harvest and cook up herbs and greens for a delicious Asian dish or a savory Italian dish. Tasty samples\, plant lists and recipes are included\, and everyone will plant herbs and greens to take home.\n
LOCATION:559 College Ave.\, Palo Alto\, CA 94306
UID:e.2469.1104
SEQUENCE:3
DTSTAMP:20260425T152238Z
URL:https://business.paloaltochamber.com/events/details/herbs-and-greens-workshop-10-08-2011-1104
END:VEVENT

END:VCALENDAR
