BEGIN:VCALENDAR
VERSION:2.0
PRODID:-//ChamberMaster//Event Calendar 2.0//EN
METHOD:PUBLISH
X-PUBLISHED-TTL:P3D
REFRESH-INTERVAL:P3D
CALSCALE:GREGORIAN
BEGIN:VEVENT
DTSTART:20120324T170000Z
DTEND:20120324T213000Z
X-MICROSOFT-CDO-ALLDAYEVENT:FALSE
SUMMARY:Health & Fitness Fair
DESCRIPTION:Please join us as local professionals will be speaking and giving demos in the areas of health\, nutrition\, wellness\, fitness\, naturopathic and chiropractic medicine\, self-defense\, reiki\, and hormonal issues. We will also have refreshments\, give-aways and much more. This event is free and provided as a service to our community. Hope you can join us!
X-ALT-DESC;FMTTYPE=text/html:Please join us as local professionals will be speaking and giving demos in the areas of health\, nutrition\, wellness\, fitness\, naturopathic and chiropractic medicine\, self-defense\, reiki\, and hormonal issues. We will also have refreshments\, give-aways and much more. This event is free and provided as a service to our community. Hope you can join us!
LOCATION:555 Lytton Avenue\, Palo Alto\, CA 94301
UID:e.2469.1181
SEQUENCE:3
DTSTAMP:20260425T232700Z
URL:https://business.paloaltochamber.com/events/details/health-fitness-fair-03-24-2012-1181
END:VEVENT

END:VCALENDAR
