BEGIN:VCALENDAR
VERSION:2.0
PRODID:-//ChamberMaster//Event Calendar 2.0//EN
METHOD:PUBLISH
X-PUBLISHED-TTL:P3D
REFRESH-INTERVAL:P3D
CALSCALE:GREGORIAN
BEGIN:VEVENT
DTSTART:20111105T210000Z
DTEND:20111105T230000Z
X-MICROSOFT-CDO-ALLDAYEVENT:FALSE
SUMMARY:HARVEST AND HOLIDAY WREATH MAKING
DESCRIPTION:$30 + $20 materials fee\nClick http://holidaywreathmaking.eventbrite.com to register or call 650-493-6072\nYou will have fun learning how to make a beautiful wreath with all organic plant materials. Bring holiday cheer home with a wonderful wreath made by YOU! Decorate and transform your garden abundance into gifts for yourself and your friends.
X-ALT-DESC;FMTTYPE=text/html:$30 + $20 materials fee\nClick http://holidaywreathmaking.eventbrite.com to register or call 650-493-6072\nYou will have fun learning how to make a beautiful wreath with all organic plant materials. Bring holiday cheer home with a wonderful wreath made by YOU! Decorate and transform your garden abundance into gifts for yourself and your friends.
LOCATION:559 College Ave.\, Palo Alto\, CA 94306
UID:e.2469.1097
SEQUENCE:3
DTSTAMP:20260425T183105Z
URL:https://business.paloaltochamber.com/events/details/harvest-and-holiday-wreath-making-11-05-2011-1097
END:VEVENT

END:VCALENDAR
