BEGIN:VCALENDAR
VERSION:2.0
PRODID:-//ChamberMaster//Event Calendar 2.0//EN
METHOD:PUBLISH
X-PUBLISHED-TTL:P3D
REFRESH-INTERVAL:P3D
CALSCALE:GREGORIAN
BEGIN:VEVENT
DTSTART:20120317T173000Z
DTEND:20120317T193000Z
X-MICROSOFT-CDO-ALLDAYEVENT:FALSE
SUMMARY:GROWING GREAT TOMATOES
DESCRIPTION:with Nancy Garrison		 	$31        Click http://growinggreattomatoes2012.eventbrite.com/ to register or call 650-493-6072.\nLearn which tomatoes have really great flavor and reliable production and are able to hold up under regular garden conditions. You will learn excellent trellising methods\, soil preparation\, what NOT to do\, and how to avoid the brown crispy foliage blues so a bountiful harvest will be yours until frost. Tomatoes featured are the result of her 25 years of hands-on tomato research.
X-ALT-DESC;FMTTYPE=text/html:with Nancy Garrison		 	$31        Click http://growinggreattomatoes2012.eventbrite.com/ to register or call 650-493-6072.\nLearn which tomatoes have really great flavor and reliable production and are able to hold up under regular garden conditions. You will learn excellent trellising methods\, soil preparation\, what NOT to do\, and how to avoid the brown crispy foliage blues so a bountiful harvest will be yours until frost. Tomatoes featured are the result of her 25 years of hands-on tomato research.
LOCATION:Common Ground Garden Supply and Education Center\, Palo Alto\, CA 94306
UID:e.2469.1138
SEQUENCE:3
DTSTAMP:20260425T232151Z
URL:https://business.paloaltochamber.com/events/details/growing-great-tomatoes-03-17-2012-1138
END:VEVENT

END:VCALENDAR
