BEGIN:VCALENDAR
VERSION:2.0
PRODID:-//ChamberMaster//Event Calendar 2.0//EN
METHOD:PUBLISH
X-PUBLISHED-TTL:P3D
REFRESH-INTERVAL:P3D
CALSCALE:GREGORIAN
BEGIN:VEVENT
DTSTART:20120519T173000Z
DTEND:20120519T193000Z
X-MICROSOFT-CDO-ALLDAYEVENT:FALSE
SUMMARY:GROWING CUT FLOWERS
DESCRIPTION:You will be introduced to the best of the best\, easy-togrow\nflowers with staying power. You will learn\nabout many common plants whose foliage is used as\nthe foundation for many arrangements\, which add\ndepth and interest to the bouquets. Learn which\nspecific varieties do well in arrangements. Save\nmoney and enjoy growing your own flower bouquets.\nPurple orach\, colorful amaranths\, different alstroemerias\,\npurple millet\, peonies\, long-stemmed roses\,\nand many other garden gems will be discussed. A\nslide show is included. Taught by Nancy Garrison. Nancy will share 25-plus\nyears of knowledge on selecting and growing local\ncut flowers. Nancy has been involved with the UC\nCooperative Extension trialing over a hundred kinds of\nflowers. Her work with sunflowers has been featured in\nSunset magazine.\n\nNancy Garrison Saturday\, May 19\n10:30 –12:30 $31
X-ALT-DESC;FMTTYPE=text/html:You will be introduced to the best of the best\, easy-togrow\nflowers with staying power. You will learn\nabout many common plants whose foliage is used as\nthe foundation for many arrangements\, which add\ndepth and interest to the bouquets. Learn which\nspecific varieties do well in arrangements. Save\nmoney and enjoy growing your own flower bouquets.\nPurple orach\, colorful amaranths\, different alstroemerias\,\npurple millet\, peonies\, long-stemmed roses\,\nand many other garden gems will be discussed. A\nslide show is included. Taught by Nancy Garrison. Nancy will share 25-plus\nyears of knowledge on selecting and growing local\ncut flowers. Nancy has been involved with the UC\nCooperative Extension trialing over a hundred kinds of\nflowers. Her work with sunflowers has been featured in\nSunset magazine.\n\nNancy Garrison Saturday\, May 19\n10:30 –12:30 $31
LOCATION:559 College Ave.\, Palo Alto\, C 94306
UID:e.2469.1192
SEQUENCE:3
DTSTAMP:20260426T043731Z
URL:https://business.paloaltochamber.com/events/details/growing-cut-flowers-05-19-2012-1192
END:VEVENT

END:VCALENDAR
