BEGIN:VCALENDAR
VERSION:2.0
PRODID:-//ChamberMaster//Event Calendar 2.0//EN
METHOD:PUBLISH
X-PUBLISHED-TTL:P3D
REFRESH-INTERVAL:P3D
CALSCALE:GREGORIAN
BEGIN:VEVENT
DTSTART:20111112T183000Z
DTEND:20111112T203000Z
X-MICROSOFT-CDO-ALLDAYEVENT:FALSE
SUMMARY:GRAYWATER FOR A GREEN GARDEN
DESCRIPTION:$31\nClick http://graywaterforagreengarden.eventbrite.com to register or call 650-493-6072\nOn January 12\, 2010\, state lawmakers enacted new codes that allow more flexibility in irrigating your garden with graywater. Learn about the new codes\, how you can assemble and maintain an inexpensive system and what not to put down your drain. The class will also cover what's happening with local ordinances in Santa Clara and San Mateo counties so we can all keep this inexpensive and easily available resource.
X-ALT-DESC;FMTTYPE=text/html:$31\nClick http://graywaterforagreengarden.eventbrite.com to register or call 650-493-6072\nOn January 12\, 2010\, state lawmakers enacted new codes that allow more flexibility in irrigating your garden with graywater. Learn about the new codes\, how you can assemble and maintain an inexpensive system and what not to put down your drain. The class will also cover what's happening with local ordinances in Santa Clara and San Mateo counties so we can all keep this inexpensive and easily available resource.
LOCATION:559 College Ave.\, Palo Alto\, CA 94306
UID:e.2469.1101
SEQUENCE:3
DTSTAMP:20260425T170643Z
URL:https://business.paloaltochamber.com/events/details/graywater-for-a-green-garden-11-12-2011-1101
END:VEVENT

END:VCALENDAR
