BEGIN:VCALENDAR
VERSION:2.0
PRODID:-//ChamberMaster//Event Calendar 2.0//EN
METHOD:PUBLISH
X-PUBLISHED-TTL:P3D
REFRESH-INTERVAL:P3D
CALSCALE:GREGORIAN
BEGIN:VEVENT
DTSTART:20120225T183000Z
DTEND:20120225T203000Z
X-MICROSOFT-CDO-ALLDAYEVENT:FALSE
SUMMARY:GRAFTING
DESCRIPTION:with James Kern	  	$31 + $4 materials fee        Click http://graftingandscionwood.eventbrite.com/ to register or call 650-493-6072.\nScionwood will be available for each student! Learn about grafting and the important role it plays in plant and tree production. You will receive an overview of budding techniques and practice grafting that you can use on your own trees. There will be several varieties of grafting wood\, or scionwood\, for you to build your own plum\, peach\, pear\, or heritage apple tree. Rootstocks and grafting knives will be available for purchase at Common Ground.
X-ALT-DESC;FMTTYPE=text/html:with James Kern	  	$31 + $4 materials fee        Click http://graftingandscionwood.eventbrite.com/ to register or call 650-493-6072.\nScionwood will be available for each student! Learn about grafting and the important role it plays in plant and tree production. You will receive an overview of budding techniques and practice grafting that you can use on your own trees. There will be several varieties of grafting wood\, or scionwood\, for you to build your own plum\, peach\, pear\, or heritage apple tree. Rootstocks and grafting knives will be available for purchase at Common Ground. 
LOCATION:Common Ground Garden Supply and Education Center\, Palo Alto\, CA 94306
UID:e.2469.1132
SEQUENCE:3
DTSTAMP:20260425T213610Z
URL:https://business.paloaltochamber.com/events/details/grafting-02-25-2012-1132
END:VEVENT

END:VCALENDAR
