BEGIN:VCALENDAR
VERSION:2.0
PRODID:-//ChamberMaster//Event Calendar 2.0//EN
METHOD:PUBLISH
X-PUBLISHED-TTL:P3D
REFRESH-INTERVAL:P3D
CALSCALE:GREGORIAN
BEGIN:VEVENT
DTSTART:20120125T163000Z
DTEND:20120125T180000Z
X-MICROSOFT-CDO-ALLDAYEVENT:FALSE
SUMMARY:Good Morning Palo Alto with Will Durst!
DESCRIPTION:Humor comes to the Chamber – New Breakfast Series begins Jan 25.\n\nThe Chamber has created a quarterly breakfast series for 2012\, which will present current events with a twist. The ''twist'' for the initial launch of the series is humor.\n\nPolitical satirist and Emmy-award winning comic Will Durst has accepted the Chamber's invitation to be the first guest for ''Good Morning Palo Alto.''  Called a ''modern day Will Rogers'' by the Los Angeles Times\, Durst is considered America's premier political satirist\, with appearances on Letterman\, Leno and CBS Morning News. He writes a nationally syndicated political humor column and is a frequent contributor to CNN\, MSNBC\, & Fox News. \n\nGood Morning Palo Alto launches Wednesday\, Jan 25\, 2012
X-ALT-DESC;FMTTYPE=text/html:Humor comes to the Chamber – New Breakfast Series begins Jan 25.\n\nThe Chamber has created a quarterly breakfast series for 2012\, which will present current events with a twist. The ''twist'' for the initial launch of the series is humor.\n\nPolitical satirist and Emmy-award winning comic Will Durst has accepted the Chamber's invitation to be the first guest for ''Good Morning Palo Alto.''  Called a ''modern day Will Rogers'' by the Los Angeles Times\, Durst is considered America's premier political satirist\, with appearances on Letterman\, Leno and CBS Morning News. He writes a nationally syndicated political humor column and is a frequent contributor to CNN\, MSNBC\, & Fox News. \n\nGood Morning Palo Alto launches Wednesday\, Jan 25\, 2012\n\n\n\n\n\n \n \n\n
LOCATION:Westin Hotel Palo Alto\, Palo Alto\, CA 94301
UID:e.2469.1142
SEQUENCE:3
DTSTAMP:20260425T201203Z
URL:https://business.paloaltochamber.com/events/details/good-morning-palo-alto-with-will-durst-01-25-2012-1142
END:VEVENT

END:VCALENDAR
