BEGIN:VCALENDAR
VERSION:2.0
PRODID:-//ChamberMaster//Event Calendar 2.0//EN
METHOD:PUBLISH
X-PUBLISHED-TTL:P3D
REFRESH-INTERVAL:P3D
CALSCALE:GREGORIAN
BEGIN:VEVENT
DTSTART:20120121T183000Z
DTEND:20120121T220000Z
X-MICROSOFT-CDO-ALLDAYEVENT:FALSE
SUMMARY:FRUIT TREE PRUNING
DESCRIPTION:with Kevin Raftery		$42        Click http://fruittreepruning2012.eventbrite.com/ to register or call 650-493-6072.\nLearn how to maximize tree health\, fruit production and dead wood identification. Espalier care also discussed. Meet at Common Ground and then proceed to a local orchard\, rain or shine. YOU BRING: pruning shears\, bag lunch and a notebook.
X-ALT-DESC;FMTTYPE=text/html:with Kevin Raftery		$42        Click http://fruittreepruning2012.eventbrite.com/ to register or call 650-493-6072.\nLearn how to maximize tree health\, fruit production and dead wood identification. Espalier care also discussed. Meet at Common Ground and then proceed to a local orchard\, rain or shine. YOU BRING: pruning shears\, bag lunch and a notebook.
LOCATION:Common Ground Garden Supply and Education Center\, Palo Alto\, CA 94306
UID:e.2469.1128
SEQUENCE:3
DTSTAMP:20260425T200346Z
URL:https://business.paloaltochamber.com/events/details/fruit-tree-pruning-01-21-2012-1128
END:VEVENT

END:VCALENDAR
