BEGIN:VCALENDAR
VERSION:2.0
PRODID:-//ChamberMaster//Event Calendar 2.0//EN
METHOD:PUBLISH
X-PUBLISHED-TTL:P3D
REFRESH-INTERVAL:P3D
CALSCALE:GREGORIAN
BEGIN:VEVENT
DTSTART:20110723T180000Z
DTEND:20110723T230000Z
X-MICROSOFT-CDO-ALLDAYEVENT:FALSE
SUMMARY:Fifth Annual Edible Landscaping Tour
DESCRIPTION:Register at http://fifthediblelandscapingtour.eventbrite.com/ or by calling 650-493-6072.\n  Fifth Annual Edible Landscaping Tour\nOrganic food grown in our neighborhood\nSaturday\, July 23rd\, 2011\n11 am to 4 pm\njoin this inspirational self-guided tour in Palo Alto!\n\n    * beautiful suburban gardens with organic edible landscapes\n    * visit the Common Ground Demonstration Garden\n    * meet the creative gardeners who transformed their gardens\n    * get great ideas for your garden\n\nCost: $35\nCheck-in Time:\n10:45 am - 3:00 pm\, Saturday\, July 23\nMaps including bike routes and garden descriptions provided at check-in\n\nStarting Location:\nCommon Ground Garden Supply and Education Center
X-ALT-DESC;FMTTYPE=text/html:Register at http://fifthediblelandscapingtour.eventbrite.com/ or by calling 650-493-6072.\n  Fifth Annual Edible Landscaping Tour\nOrganic food grown in our neighborhood\nSaturday\, July 23rd\, 2011\n11 am to 4 pm\njoin this inspirational self-guided tour in Palo Alto!\n\n    * beautiful suburban gardens with organic edible landscapes\n    * visit the Common Ground Demonstration Garden\n    * meet the creative gardeners who transformed their gardens\n    * get great ideas for your garden\n\nCost: $35\nCheck-in Time:\n10:45 am - 3:00 pm\, Saturday\, July 23\nMaps including bike routes and garden descriptions provided at check-in\n\nStarting Location:\nCommon Ground Garden Supply and Education Center 
LOCATION:559 College Ave.\, Palo Alto\, CA 94306
UID:e.2469.1056
SEQUENCE:3
DTSTAMP:20260425T115722Z
URL:https://business.paloaltochamber.com/events/details/fifth-annual-edible-landscaping-tour-07-23-2011-1056
END:VEVENT

END:VCALENDAR
