BEGIN:VCALENDAR
VERSION:2.0
PRODID:-//ChamberMaster//Event Calendar 2.0//EN
METHOD:PUBLISH
X-PUBLISHED-TTL:P3D
REFRESH-INTERVAL:P3D
CALSCALE:GREGORIAN
BEGIN:VEVENT
DTSTART:20111218T000000Z
DTEND:20111218T020000Z
X-MICROSOFT-CDO-ALLDAYEVENT:FALSE
SUMMARY:Festival of Trees! Vote for Your Favorite Tree!
DESCRIPTION:Fun for the whole family!\nLytton's 6th Annual Festival of Trees will begin at 4 p.m. on Saturday\, Dec. 17th. Join us to view over 14 festively decorated trees with varying themes. Enjoy The Merrie Olde Christmas Carolers\, an Ornament Workshop\, Pictures with Santa\, Live Holiday Piano\, Cookies & Cider.
X-ALT-DESC;FMTTYPE=text/html:Fun for the whole family!\nLytton's 6th Annual Festival of Trees will begin at 4 p.m. on Saturday\, Dec. 17th. Join us to view over 14 festively decorated trees with varying themes. Enjoy The Merrie Olde Christmas Carolers\, an Ornament Workshop\, Pictures with Santa\, Live Holiday Piano\, Cookies & Cider.
LOCATION:437 Webster St.\, Palo Alto\, CA 94301
UID:e.2469.1140
SEQUENCE:3
DTSTAMP:20260425T183237Z
URL:https://business.paloaltochamber.com/events/details/festival-of-trees-vote-for-your-favorite-tree-12-17-2011-1140
END:VEVENT

END:VCALENDAR
