BEGIN:VCALENDAR
VERSION:2.0
PRODID:-//ChamberMaster//Event Calendar 2.0//EN
METHOD:PUBLISH
X-PUBLISHED-TTL:P3D
REFRESH-INTERVAL:P3D
CALSCALE:GREGORIAN
BEGIN:VEVENT
DTSTART:20120128T223000Z
DTEND:20120129T003000Z
X-MICROSOFT-CDO-ALLDAYEVENT:FALSE
SUMMARY:EDIBLE LANDSCAPING WITH HEIRLOOMS
DESCRIPTION:with Diane Ott Whealy		$31        Click http://ediblelandscapingwithheirlooms.eventbrite.com/ to register or call 650-493-6072.\nThe class will highlight her experience with designing and planting heirloom seed varieties in her cottage style garden at Seed Savers Exchange Heritage Farm for over 20 years. She will answer questions about choosing\, planting\, and seed saving to help you create the perfect combination of vegetables\, flowers\, and herbs for your garden\, large or small. Join Diane for conversation and author signing of her newly released book\, ''Gathering Memoir of a Seed Saver''
X-ALT-DESC;FMTTYPE=text/html:with Diane Ott Whealy		$31        Click http://ediblelandscapingwithheirlooms.eventbrite.com/ to register or call 650-493-6072.\nThe class will highlight her experience with designing and planting heirloom seed varieties in her cottage style garden at Seed Savers Exchange Heritage Farm for over 20 years. She will answer questions about choosing\, planting\, and seed saving to help you create the perfect combination of vegetables\, flowers\, and herbs for your garden\, large or small. Join Diane for conversation and author signing of her newly released book\, ''Gathering Memoir of a Seed Saver'' 
LOCATION:Common Ground Garden Supply and Education Center\, Palo Alto\, CA 94306
UID:e.2469.1125
SEQUENCE:3
DTSTAMP:20260425T201334Z
URL:https://business.paloaltochamber.com/events/details/edible-landscaping-with-heirlooms-01-28-2012-1125
END:VEVENT

END:VCALENDAR
