BEGIN:VCALENDAR
VERSION:2.0
PRODID:-//ChamberMaster//Event Calendar 2.0//EN
METHOD:PUBLISH
X-PUBLISHED-TTL:P3D
REFRESH-INTERVAL:P3D
CALSCALE:GREGORIAN
BEGIN:VEVENT
DTSTART:20120114T180000Z
DTEND:20120414T220000Z
X-MICROSOFT-CDO-ALLDAYEVENT:FALSE
SUMMARY:EDIBLE GARDEN SERIES: FROM DESIGN TO HARVEST
DESCRIPTION:with Drew Harwell\nFive Saturdays: January 14\, February 11\, March 3\, March 24\, and April 14.\n$325        Click http://ediblegardenseriesdesigntoharvest.eventbrite.com/ to register or call 650-493-6072.\nOne-hour lunch break\; bring your own lunch. Class size is limited. Register early. Learn garden design and planning\, composting\, soil testing and preparation\, seed propagation and transplanting\, watering and how to nurture healthy edible crops. You can create a garden oasis of beautiful edibles in the front\, side or back of the home. Master harvesting techniques and learn what compost crops to plant after harvest. Permaculture design and GROW BIOINTENSIVE methods harmonize together in this special series. Home owners and professional landscape designers will gain valuable knowledge to create gardens of nutritious and delicious organic food in your homes and communities. Make lasting friendships! Learn about proper tools\, supplies\, books and resources throughout the course. Bring your copy of How to Grow More Vegetables to all classes.
X-ALT-DESC;FMTTYPE=text/html:with Drew Harwell\nFive Saturdays: January 14\, February 11\, March 3\, March 24\, and April 14.\n$325        Click http://ediblegardenseriesdesigntoharvest.eventbrite.com/ to register or call 650-493-6072.\nOne-hour lunch break\; bring your own lunch. Class size is limited. Register early. Learn garden design and planning\, composting\, soil testing and preparation\, seed propagation and transplanting\, watering and how to nurture healthy edible crops. You can create a garden oasis of beautiful edibles in the front\, side or back of the home. Master harvesting techniques and learn what compost crops to plant after harvest. Permaculture design and GROW BIOINTENSIVE methods harmonize together in this special series. Home owners and professional landscape designers will gain valuable knowledge to create gardens of nutritious and delicious organic food in your homes and communities. Make lasting friendships! Learn about proper tools\, supplies\, books and resources throughout the course. Bring your copy of How to Grow More Vegetables to all classes. 
LOCATION:559 College Ave.\, Palo Alto\, CA 94306
UID:e.2469.1127
SEQUENCE:3
DTSTAMP:20260425T201351Z
URL:https://business.paloaltochamber.com/events/details/edible-garden-series-from-design-to-harvest-01-14-2012-1127
END:VEVENT

END:VCALENDAR
