BEGIN:VCALENDAR
VERSION:2.0
PRODID:-//ChamberMaster//Event Calendar 2.0//EN
METHOD:PUBLISH
X-PUBLISHED-TTL:P3D
REFRESH-INTERVAL:P3D
CALSCALE:GREGORIAN
BEGIN:VEVENT
DTSTART:20120424T020000Z
DTEND:20120424T020000Z
X-MICROSOFT-CDO-ALLDAYEVENT:FALSE
SUMMARY:Dr. Leonard Mlodinow\, Author of ''Drunkard's Walk'' & ''Subliminal: How Your Unconscious Mind Rules Your Behavior''
DESCRIPTION:To help us uncover and understand how the human mind works\, Dr. Mlodinow explains why every aspect of our life plays out in two versions – our conscious and unconscious.  He discusses the profound ways our perception\, behavior\, memory and social judgments are shaped by our subliminal mind and how that drives our relationships and interactions with others.
X-ALT-DESC;FMTTYPE=text/html:To help us uncover and understand how the human mind works\, Dr. Mlodinow explains why every aspect of our life plays out in two versions – our conscious and unconscious.  He discusses the profound ways our perception\, behavior\, memory and social judgments are shaped by our subliminal mind and how that drives our relationships and interactions with others.  
LOCATION:3921 Fabian Way\, Palo Alto\, CA 94303
UID:e.2469.1209
SEQUENCE:3
DTSTAMP:20260426T011323Z
URL:https://business.paloaltochamber.com/events/details/dr-leonard-mlodinow-author-of-drunkard-s-walk-subliminal-how-your-unconscious-mind-rules-your-behavior-04-23-2012-1209
END:VEVENT

END:VCALENDAR
