BEGIN:VCALENDAR
VERSION:2.0
PRODID:-//ChamberMaster//Event Calendar 2.0//EN
METHOD:PUBLISH
X-PUBLISHED-TTL:P3D
REFRESH-INTERVAL:P3D
CALSCALE:GREGORIAN
BEGIN:VEVENT
DTSTART:20111018T020000Z
DTEND:20111018T020000Z
X-MICROSOFT-CDO-ALLDAYEVENT:FALSE
SUMMARY:Dr. Khaled Hosseini\, Author of ''The Kite Runner'' & ''The Kite Runner: A Graphic Novel''
DESCRIPTION:Since its initial publication in 2003\, nearly seven million readers have discovered Khaled Hosseini's ''The Kite Runner''\, an extraordinary heart wrenching story of two orphaned boys coming of age in ravaged war-torn Afghanistan. Newly released as a graphic-novel\, Hosseini will discuss his work and his personal foundation that provides humanitarian assistance to the people of Afghanistan.
X-ALT-DESC;FMTTYPE=text/html:Since its initial publication in 2003\, nearly seven million readers have discovered Khaled Hosseini's ''The Kite Runner''\, an extraordinary heart wrenching story of two orphaned boys coming of age in ravaged war-torn Afghanistan. Newly released as a graphic-novel\, Hosseini will discuss his work and his personal foundation that provides humanitarian assistance to the people of Afghanistan.      \n\n
LOCATION:4000 Middlefield Road\, Palo Alto\, CA 94303
UID:e.2469.1110
SEQUENCE:3
DTSTAMP:20260425T152714Z
URL:https://business.paloaltochamber.com/events/details/dr-khaled-hosseini-author-of-the-kite-runner-the-kite-runner-a-graphic-novel-10-17-2011-1110
END:VEVENT

END:VCALENDAR
