BEGIN:VCALENDAR
VERSION:2.0
PRODID:-//ChamberMaster//Event Calendar 2.0//EN
METHOD:PUBLISH
X-PUBLISHED-TTL:P3D
REFRESH-INTERVAL:P3D
CALSCALE:GREGORIAN
BEGIN:VEVENT
DTSTART:20111011T020000Z
DTEND:20111011T020000Z
X-MICROSOFT-CDO-ALLDAYEVENT:FALSE
SUMMARY:Dr. Jeffrey Sachs\, Special UN Advisor & Author of ''The Price of Civilization: Reawakening American Virtue and Prosperity
DESCRIPTION:In wake of the worst recession in recent history\, Dr. Sachs focuses on the United States and gives a startling account of the inadequacies of America-style capitalism. He asks the question ''where do we go from here'' and offers a bold plan of reforms relating to sustainable infrastructure\, taxes\, job training\, etc.  that must be taken to avoid further damage. \n\nOne of the most influential international economic advisors\, Dr. Sachs was the Director of the UN Millennium Project from 2002-2006 and is the President and Co Founder of Millennium Promise Alliance\, an organization dedicated to end extreme global poverty.
X-ALT-DESC;FMTTYPE=text/html:In wake of the worst recession in recent history\, Dr. Sachs focuses on the United States and gives a startling account of the inadequacies of America-style capitalism. He asks the question ''where do we go from here'' and offers a bold plan of reforms relating to sustainable infrastructure\, taxes\, job training\, etc.  that must be taken to avoid further damage. \n\nOne of the most influential international economic advisors\, Dr. Sachs was the Director of the UN Millennium Project from 2002-2006 and is the President and Co Founder of Millennium Promise Alliance\, an organization dedicated to end extreme global poverty. \n
LOCATION:Schultz Cultural Hall\, Oshman Family JCC\, Palo Alto\, CA 94303
UID:e.2469.1109
SEQUENCE:3
DTSTAMP:20260425T152747Z
URL:https://business.paloaltochamber.com/events/details/dr-jeffrey-sachs-special-un-advisor-author-of-the-price-of-civilization-reawakening-american-virtue-and-prosperity-10-10-2011-1109
END:VEVENT

END:VCALENDAR
