BEGIN:VCALENDAR
VERSION:2.0
PRODID:-//ChamberMaster//Event Calendar 2.0//EN
METHOD:PUBLISH
X-PUBLISHED-TTL:P3D
REFRESH-INTERVAL:P3D
CALSCALE:GREGORIAN
BEGIN:VEVENT
DTSTART:20111001T203000Z
DTEND:20111001T223000Z
X-MICROSOFT-CDO-ALLDAYEVENT:FALSE
SUMMARY:DOUBLE-DIGGING AND BED PREPARATION
DESCRIPTION:$31\nClick http://dubdigging.eventbrite.com to register or call 650-493-6072\nBed preparation is the first step in a GROW BIOINTENSIVE garden. It can improve the long-term sustainability and ecology of your soil\, potentially making the difference between good and poor soil structure and between high and low crop yields. In well-prepared beds\, plants will grow better and need less water\, and weeds will come out easily. Learn how easy\, fun and productive this approach can be. This ever-popular class includes a hands-on demonstration at the Common Ground Garden.
X-ALT-DESC;FMTTYPE=text/html:$31\nClick http://dubdigging.eventbrite.com to register or call 650-493-6072\nBed preparation is the first step in a GROW BIOINTENSIVE garden. It can improve the long-term sustainability and ecology of your soil\, potentially making the difference between good and poor soil structure and between high and low crop yields. In well-prepared beds\, plants will grow better and need less water\, and weeds will come out easily. Learn how easy\, fun and productive this approach can be. This ever-popular class includes a hands-on demonstration at the Common Ground Garden.\n
LOCATION:559 College Ave.\, Palo Alto\, CA 94306
UID:e.2469.1100
SEQUENCE:3
DTSTAMP:20260425T165254Z
URL:https://business.paloaltochamber.com/events/details/double-digging-and-bed-preparation-10-01-2011-1100
END:VEVENT

END:VCALENDAR
