BEGIN:VCALENDAR
VERSION:2.0
PRODID:-//ChamberMaster//Event Calendar 2.0//EN
METHOD:PUBLISH
X-PUBLISHED-TTL:P3D
REFRESH-INTERVAL:P3D
CALSCALE:GREGORIAN
BEGIN:VEVENT
DTSTART:20120331T210000Z
DTEND:20120331T230000Z
X-MICROSOFT-CDO-ALLDAYEVENT:FALSE
SUMMARY:DOUBLE-DIGGING and BED PREPARATION
DESCRIPTION:with John Jeavons	   $31        Click http://doublediggingandbedprep.eventbrite.com/ to register or call 650-493-6072.\nDouble-digging is the first step in a GROW BIOINTENSIVE garden. Learn how easy\, fun and productive this method can be. Learn what makes soil healthy and how to create it in your own garden. This ever-popular class includes a hands-on demonstration at the Common Ground Garden.
X-ALT-DESC;FMTTYPE=text/html:with John Jeavons	   $31        Click http://doublediggingandbedprep.eventbrite.com/ to register or call 650-493-6072.\nDouble-digging is the first step in a GROW BIOINTENSIVE garden. Learn how easy\, fun and productive this method can be. Learn what makes soil healthy and how to create it in your own garden. This ever-popular class includes a hands-on demonstration at the Common Ground Garden. 
LOCATION:Common Ground Garden Supply and Education Center\, Palo Alto\, CA 94306
UID:e.2469.1134
SEQUENCE:3
DTSTAMP:20260425T232152Z
URL:https://business.paloaltochamber.com/events/details/double-digging-and-bed-preparation-03-31-2012-1134
END:VEVENT

END:VCALENDAR
