BEGIN:VCALENDAR
VERSION:2.0
PRODID:-//ChamberMaster//Event Calendar 2.0//EN
METHOD:PUBLISH
X-PUBLISHED-TTL:P3D
REFRESH-INTERVAL:P3D
CALSCALE:GREGORIAN
BEGIN:VEVENT
DTSTART:20110108T220000Z
DTEND:20110109T000000Z
X-MICROSOFT-CDO-ALLDAYEVENT:FALSE
SUMMARY:DOUBLE-DIGGING and BED PREPARATION
DESCRIPTION:To register call 650-493-6072 or http://graftingscions.eventbrite.com/ Cost $31 + $4 materials fee\nScionwood will be available for each student! Learn about grafting and the important role it plays in plant and tree production. You will receive an overview of budding techniques and practice grafting that you can use on your own trees. Build your own plum\, peach\, pear\, or heritage apple tree.
X-ALT-DESC;FMTTYPE=text/html:To register call 650-493-6072 or http://graftingscions.eventbrite.com/ Cost $31 + $4 materials fee\nScionwood will be available for each student! Learn about grafting and the important role it plays in plant and tree production. You will receive an overview of budding techniques and practice grafting that you can use on your own trees. Build your own plum\, peach\, pear\, or heritage apple tree.
LOCATION:559 College Ave.\, Palo Alto\, CA 94306
UID:e.2469.1025
SEQUENCE:3
DTSTAMP:20260425T002820Z
URL:https://business.paloaltochamber.com/events/details/double-digging-and-bed-preparation-01-08-2011-1025
END:VEVENT

END:VCALENDAR
