BEGIN:VCALENDAR
VERSION:2.0
PRODID:-//ChamberMaster//Event Calendar 2.0//EN
METHOD:PUBLISH
X-PUBLISHED-TTL:P3D
REFRESH-INTERVAL:P3D
CALSCALE:GREGORIAN
BEGIN:VEVENT
DTSTART:20111022T170000Z
DTEND:20111022T213000Z
X-MICROSOFT-CDO-ALLDAYEVENT:FALSE
SUMMARY:Divorce: Building Your Strategy Before\, During & After
DESCRIPTION:If you are considering divorce\, have recently gone through a divorce\, or are still aching from the effects of a divorce\, join us for an informative\, supportive and enlightening free seminar for women. Professionals will help to guide you through the process\, as we consider the legal\, financial and emotional landscape of divorce. In addition\, we will address the aspects of career transition\, helping your children cope and finding resources that will help you heal.
X-ALT-DESC;FMTTYPE=text/html:If you are considering divorce\, have recently gone through a divorce\, or are still aching from the effects of a divorce\, join us for an informative\, supportive and enlightening free seminar for women. Professionals will help to guide you through the process\, as we consider the legal\, financial and emotional landscape of divorce. In addition\, we will address the aspects of career transition\, helping your children cope and finding resources that will help you heal.
LOCATION:Deborah's Palm\, Palo Alto\, CA 94301
UID:e.2469.1111
SEQUENCE:3
DTSTAMP:20260425T152255Z
URL:https://business.paloaltochamber.com/events/details/divorce-building-your-strategy-before-during-after-10-22-2011-1111
END:VEVENT

END:VCALENDAR
