BEGIN:VCALENDAR
VERSION:2.0
PRODID:-//ChamberMaster//Event Calendar 2.0//EN
METHOD:PUBLISH
X-PUBLISHED-TTL:P3D
REFRESH-INTERVAL:P3D
CALSCALE:GREGORIAN
BEGIN:VEVENT
DTSTART:20111013T203000Z
DTEND:20111014T000000Z
X-MICROSOFT-CDO-ALLDAYEVENT:FALSE
SUMMARY:Distraction Proof Seminar
DESCRIPTION:It only takes a split second to get distracted but the consequences last.\nLearn to be distraction-proof so you can...\n*Get The Money You Need\n*Clients You Want\n*More Time To Do What You Love\nJoin Paul Kingsman\, finance industry insider\, keynote and workshop speaker\, executive coach\, and Olympic medalist\, as he teaches  professionals how to:\nBest prioritize time and effort\nAlign daily activities to long-term goals\nPerform excellently under pressure\nBuild thriving\, profitable practices\n\nDistraction-Proof Seminar\nhosted by the Silicon Valley Business Journal
X-ALT-DESC;FMTTYPE=text/html:It only takes a split second to get distracted but the consequences last.\nLearn to be distraction-proof so you can...\n*Get The Money You Need\n*Clients You Want\n*More Time To Do What You Love\nJoin Paul Kingsman\, finance industry insider\, keynote and workshop speaker\, executive coach\, and Olympic medalist\, as he teaches  professionals how to:\nBest prioritize time and effort\nAlign daily activities to long-term goals\nPerform excellently under pressure\nBuild thriving\, profitable practices\n\nDistraction-Proof Seminar\nhosted by the Silicon Valley Business Journal\n
LOCATION:2400 Sand Hill Road\, \, Menlo Park\, CA 94025
UID:e.2469.1114
SEQUENCE:3
DTSTAMP:20260425T151338Z
URL:https://business.paloaltochamber.com/events/details/distraction-proof-seminar-10-13-2011-1114
END:VEVENT

END:VCALENDAR
