BEGIN:VCALENDAR
VERSION:2.0
PRODID:-//ChamberMaster//Event Calendar 2.0//EN
METHOD:PUBLISH
X-PUBLISHED-TTL:P3D
REFRESH-INTERVAL:P3D
CALSCALE:GREGORIAN
BEGIN:VEVENT
DTSTART:20111203T180000Z
DTEND:20111204T000000Z
X-MICROSOFT-CDO-ALLDAYEVENT:FALSE
SUMMARY:Deborah's Palm Holiday Bazaar
DESCRIPTION:Join us for a fun & festive time\, as we offer foods\, gifts\, arts anc crafts made by our volunteers\, teachers and local artisans. Enjoy strolling minstrels\, refreshments\, give-aways and much more. We will also be having a used Book Sale!
X-ALT-DESC;FMTTYPE=text/html:Join us for a fun & festive time\, as we offer foods\, gifts\, arts anc crafts made by our volunteers\, teachers and local artisans. Enjoy strolling minstrels\, refreshments\, give-aways and much more. We will also be having a used Book Sale!
LOCATION:555 Lytton Avenue\, Palo Alto\, CA 94301
UID:e.2469.1121
SEQUENCE:3
DTSTAMP:20260425T182920Z
URL:https://business.paloaltochamber.com/events/details/deborah-s-palm-holiday-bazaar-12-03-2011-1121
END:VEVENT

END:VCALENDAR
