BEGIN:VCALENDAR
VERSION:2.0
PRODID:-//ChamberMaster//Event Calendar 2.0//EN
METHOD:PUBLISH
X-PUBLISHED-TTL:P3D
REFRESH-INTERVAL:P3D
CALSCALE:GREGORIAN
BEGIN:VEVENT
DTSTART:20111216T023000Z
DTEND:20111216T040000Z
X-MICROSOFT-CDO-ALLDAYEVENT:FALSE
SUMMARY:Comprehensive Financial Planning
DESCRIPTION:This Comprehensive Financial Management seminar will cover your six-step plan to financial success: \n\n•Protect what you have \n•Take control of your cash flow \n•Invest wisely \n•Manage your taxes \n•Manage your retirement goals and expectations \n•How to control your legacy
X-ALT-DESC;FMTTYPE=text/html:This Comprehensive Financial Management seminar will cover your six-step plan to financial success: \n\n•Protect what you have \n•Take control of your cash flow \n•Invest wisely \n•Manage your taxes \n•Manage your retirement goals and expectations \n•How to control your legacy\n
LOCATION:490 S. California Ave.\, Palo Alto\, Ca 94306
UID:e.2469.1141
SEQUENCE:3
DTSTAMP:20260425T182920Z
URL:https://business.paloaltochamber.com/events/details/comprehensive-financial-planning-12-15-2011-1141
END:VEVENT

END:VCALENDAR
