BEGIN:VCALENDAR
VERSION:2.0
PRODID:-//ChamberMaster//Event Calendar 2.0//EN
METHOD:PUBLISH
X-PUBLISHED-TTL:P3D
REFRESH-INTERVAL:P3D
CALSCALE:GREGORIAN
BEGIN:VEVENT
DTSTART:20110212T220000Z
DTEND:20110213T000000Z
X-MICROSOFT-CDO-ALLDAYEVENT:FALSE
SUMMARY:COMPOSTING
DESCRIPTION:To register call 650-493-6072 or http://compostinggrowbiointensive.eventbrite.com/ Cost  $31\nGROW BIOINTENSIVE composting is the basis for growing the healthiest\, most nutritious\, and most disease-resistant plants. This composting method is simple and effective. It is so fun and satisfying that we must warn you composting can become addictive! We will go to the Common Ground Demonstration Garden and build our compost pile. YOU BRING: a\nfive-gallon bucket of green material (grass clippings\, weeds\, and/or non-meat kitchen scraps).
X-ALT-DESC;FMTTYPE=text/html:To register call 650-493-6072 or http://compostinggrowbiointensive.eventbrite.com/ Cost  $31\nGROW BIOINTENSIVE composting is the basis for growing the healthiest\, most nutritious\, and most disease-resistant plants. This composting method is simple and effective. It is so fun and satisfying that we must warn you composting can become addictive! We will go to the Common Ground Demonstration Garden and build our compost pile. YOU BRING: a\nfive-gallon bucket of green material (grass clippings\, weeds\, and/or non-meat kitchen scraps). 
LOCATION:559 College Ave.\, Palo Alto\, CA 94306
UID:e.2469.1022
SEQUENCE:3
DTSTAMP:20260425T022523Z
URL:https://business.paloaltochamber.com/events/details/composting-02-12-2011-1022
END:VEVENT

END:VCALENDAR
