BEGIN:VCALENDAR
VERSION:2.0
PRODID:-//ChamberMaster//Event Calendar 2.0//EN
METHOD:PUBLISH
X-PUBLISHED-TTL:P3D
REFRESH-INTERVAL:P3D
CALSCALE:GREGORIAN
BEGIN:VEVENT
DTSTART:20110312T220000Z
DTEND:20110313T000000Z
X-MICROSOFT-CDO-ALLDAYEVENT:FALSE
SUMMARY:COMPOST CROPS and ROTATIONS
DESCRIPTION:To register call 650-493-6072 or http://compostcrops.eventbrite.com/ Cost: $31\nLearn how to grow the most food\, calories\, and soil-nourishing compost materials for this summer's garden with a dynamic plan for the health of your garden over the next 3 years. The instructor\, John Jeavons\, is the Executive Director of Ecology Action and author of How to Grow More Vegetables\, now in its 7th edition and used in over 140 countries around the world.
X-ALT-DESC;FMTTYPE=text/html:To register call 650-493-6072 or http://compostcrops.eventbrite.com/ Cost: $31\nLearn how to grow the most food\, calories\, and soil-nourishing compost materials for this summer's garden with a dynamic plan for the health of your garden over the next 3 years. The instructor\, John Jeavons\, is the Executive Director of Ecology Action and author of How to Grow More Vegetables\, now in its 7th edition and used in over 140 countries around the world.
LOCATION:559 College Ave.\, Palo Alto\, CA 94306
UID:e.2469.1021
SEQUENCE:3
DTSTAMP:20260425T041439Z
URL:https://business.paloaltochamber.com/events/details/compost-crops-and-rotations-03-12-2011-1021
END:VEVENT

END:VCALENDAR
