BEGIN:VCALENDAR
VERSION:2.0
PRODID:-//ChamberMaster//Event Calendar 2.0//EN
METHOD:PUBLISH
X-PUBLISHED-TTL:P3D
REFRESH-INTERVAL:P3D
CALSCALE:GREGORIAN
BEGIN:VEVENT
DTSTART:20120211T220000Z
DTEND:20120212T000000Z
X-MICROSOFT-CDO-ALLDAYEVENT:FALSE
SUMMARY:COMPOST CROPS AND ROTATION
DESCRIPTION:with Carol Cox	 $31        Click http://introductiontocroprotation.eventbrite.com/ to register or call 650-493-6072.\nWell-chosen compost crops provide both food and significant amounts of material for your compost pile\, both summer and winter\, as well as improve the soil with their root systems. We'll talk about various compost crops and how to plan your rotation for them and the other food crops you grow\, to promote a healthy\, more sustainable garden.
X-ALT-DESC;FMTTYPE=text/html:with Carol Cox	 $31        Click http://introductiontocroprotation.eventbrite.com/ to register or call 650-493-6072.\nWell-chosen compost crops provide both food and significant amounts of material for your compost pile\, both summer and winter\, as well as improve the soil with their root systems. We'll talk about various compost crops and how to plan your rotation for them and the other food crops you grow\, to promote a healthy\, more sustainable garden. 
LOCATION:Common Ground Garden Supply and Education Center\, Palo Alto\, CA 94306
UID:e.2469.1122
SEQUENCE:3
DTSTAMP:20260425T213655Z
URL:https://business.paloaltochamber.com/events/details/compost-crops-and-rotation-02-11-2012-1122
END:VEVENT

END:VCALENDAR
