BEGIN:VCALENDAR
VERSION:2.0
PRODID:-//ChamberMaster//Event Calendar 2.0//EN
METHOD:PUBLISH
X-PUBLISHED-TTL:P3D
REFRESH-INTERVAL:P3D
CALSCALE:GREGORIAN
BEGIN:VEVENT
DTSTART:20111001T173000Z
DTEND:20111001T193000Z
X-MICROSOFT-CDO-ALLDAYEVENT:FALSE
SUMMARY:COMPLETE-DIET MINI-FARMING
DESCRIPTION:$31\nClick http://completedietgarden.eventbrite.com to register or call 650-493-6072\nPeople often wonder how they can grow all their own food. Are a few fruits and veggies enough? How do you plan to grow a complete diet? This class will show you how to plan a highly productive and ecologically sustainable garden or mini-farm that will produce healthy\, nutritious food in the smallest space possible.
X-ALT-DESC;FMTTYPE=text/html:$31\nClick http://completedietgarden.eventbrite.com to register or call 650-493-6072\nPeople often wonder how they can grow all their own food. Are a few fruits and veggies enough? How do you plan to grow a complete diet? This class will show you how to plan a highly productive and ecologically sustainable garden or mini-farm that will produce healthy\, nutritious food in the smallest space possible.
LOCATION:559 College Ave.\, Palo Alto\, CA 94306
UID:e.2469.1098
SEQUENCE:3
DTSTAMP:20260425T165402Z
URL:https://business.paloaltochamber.com/events/details/complete-diet-mini-farming-10-01-2011-1098
END:VEVENT

END:VCALENDAR
