BEGIN:VCALENDAR
VERSION:2.0
PRODID:-//ChamberMaster//Event Calendar 2.0//EN
METHOD:PUBLISH
X-PUBLISHED-TTL:P3D
REFRESH-INTERVAL:P3D
CALSCALE:GREGORIAN
BEGIN:VEVENT
DTSTART:20120310T220000Z
DTEND:20120311T000000Z
X-MICROSOFT-CDO-ALLDAYEVENT:FALSE
SUMMARY:COMPANION PLANTING
DESCRIPTION:with Mark House	  	$31        Click http://companionplanting2012.eventbrite.com/ to register or call 650-493-6072.\nDiscover how to enhance your garden's health and productivity while attracting a beneficial insect population. Learn how to make efficient use of your garden space and a plant's natural properties by using methods that have been used for centuries.
X-ALT-DESC;FMTTYPE=text/html:with Mark House	  	$31        Click http://companionplanting2012.eventbrite.com/ to register or call 650-493-6072.\nDiscover how to enhance your garden's health and productivity while attracting a beneficial insect population. Learn how to make efficient use of your garden space and a plant's natural properties by using methods that have been used for centuries. 
LOCATION:Common Ground Garden Supply and Education Center\, Palo Alto\, CA 94306
UID:e.2469.1137
SEQUENCE:3
DTSTAMP:20260425T232533Z
URL:https://business.paloaltochamber.com/events/details/companion-planting-03-10-2012-1137
END:VEVENT

END:VCALENDAR
