BEGIN:VCALENDAR
VERSION:2.0
PRODID:-//ChamberMaster//Event Calendar 2.0//EN
METHOD:PUBLISH
X-PUBLISHED-TTL:P3D
REFRESH-INTERVAL:P3D
CALSCALE:GREGORIAN
BEGIN:VEVENT
DTSTART:20120426T150000Z
DTEND:20120426T173000Z
X-MICROSOFT-CDO-ALLDAYEVENT:FALSE
SUMMARY:Circle of Support Breakfast
DESCRIPTION:The 9th Annual Circle of Support Breakfast benefiting Family & Children Services will feature playwright\, comedian\, radio and television personality\, and author BRIAN COPELAND and a tribute to VALLE MONTE LEAGUE. Mr. Copeland (author of ‘Not a Genuine Black Man') will share his unique perspective on depression\, resiliency\, and the effects of family violence. Valle Monte League\, an all-volunteer organization\, has raised funds for mental health services in Santa Clara Valley since 1950. Proceeds benefit Family & Children Services' mental health and prevention services for children\, youth\, and adults in Silicon Valley. Tickets are $75.
X-ALT-DESC;FMTTYPE=text/html:The 9th Annual Circle of Support Breakfast benefiting Family & Children Services will feature playwright\, comedian\, radio and television personality\, and author BRIAN COPELAND and a tribute to VALLE MONTE LEAGUE. Mr. Copeland (author of ‘Not a Genuine Black Man') will share his unique perspective on depression\, resiliency\, and the effects of family violence. Valle Monte League\, an all-volunteer organization\, has raised funds for mental health services in Santa Clara Valley since 1950. Proceeds benefit Family & Children Services' mental health and prevention services for children\, youth\, and adults in Silicon Valley. Tickets are $75.  
LOCATION:4290 El Camino Real\, Palo Alto\, CA 94306
UID:e.2469.1159
SEQUENCE:3
DTSTAMP:20260426T025117Z
URL:https://business.paloaltochamber.com/events/details/circle-of-support-breakfast-04-26-2012-1159
END:VEVENT

END:VCALENDAR
