BEGIN:VCALENDAR
VERSION:2.0
PRODID:-//ChamberMaster//Event Calendar 2.0//EN
METHOD:PUBLISH
X-PUBLISHED-TTL:P3D
REFRESH-INTERVAL:P3D
CALSCALE:GREGORIAN
BEGIN:VEVENT
DTSTART:20211204T180000Z
DTEND:20211205T000000Z
X-MICROSOFT-CDO-ALLDAYEVENT:FALSE
SUMMARY:Christmas Market at Allied Arts Guild
DESCRIPTION:'Tis the season! Join us for a Christmas Market at Allied Arts Guild on Saturday\, December 4 from 10 a.m. to 4 p.m. You'll find handcrafted goods   such as knitted sweaters\, soap and lotion gift packs\, belts\, bags\, and more from a variety of local vendors and artists. Visit the Artisan Shop for additional gift ideas and check out the silent auction featuring themed Christmas trees. The event also offers activities and treats\, and kids will have a chance to visit Santa! Free admission and parking. CDC and County safety measures will be in full effect. Proceeds benefit Lucile Packard Children's Hospital Stanford.
X-ALT-DESC;FMTTYPE=text/html:&lsquo\;Tis the season! Join us for a Christmas Market at Allied Arts Guild on Saturday\, December 4 from 10 a.m. to 4 p.m. You&#39\;ll find handcrafted goods &mdash\; such as knitted sweaters\, soap and lotion gift packs\, belts\, bags\, and more from a variety of local vendors and artists. Visit the Artisan Shop for additional gift ideas and check out the silent auction featuring themed Christmas trees. The event also offers activities and treats\, and kids will have a chance to visit Santa! Free admission and parking. CDC and County safety measures will be in full effect. Proceeds benefit Lucile Packard Children&#39\;s Hospital Stanford.
LOCATION:75 Arbor Rd\, Menlo Park\, CA 94025
UID:e.2469.13923
SEQUENCE:3
DTSTAMP:20260422T050318Z
URL:https://business.paloaltochamber.com/events/details/christmas-market-at-allied-arts-guild-13923
END:VEVENT

END:VCALENDAR
