BEGIN:VCALENDAR
VERSION:2.0
PRODID:-//ChamberMaster//Event Calendar 2.0//EN
METHOD:PUBLISH
X-PUBLISHED-TTL:P3D
REFRESH-INTERVAL:P3D
CALSCALE:GREGORIAN
BEGIN:VEVENT
DTSTART:20120531T020000Z
DTEND:20120531T020000Z
X-MICROSOFT-CDO-ALLDAYEVENT:FALSE
SUMMARY:Charles Ferguson\, Oscar winner for ''The Inside Job'' & Author of ''Predator Nation''
DESCRIPTION:Could the global economic meltdown of the last few years have been prevented? Ferguson believes the crisis was no accident. After ''Inside Job'' won the 2011 Academy Award for Best Documentary Film\, Ferguson started his acceptance speech by criticizing the lack of accountability of the finance industry and Wall Street pointing out that three years after the horrific crisis started not a single financial executive had gone to jail.  \n\n''Predator Nation'' continues to examine the important issues raised in ''Inside Job''\, making the powerful case that an out-of-control finance industry took advantage of a deregulated atmosphere and purposely got rich at the expense of others. Through his extensive interviews with financial insiders and government officials\, Ferguson exposes the corrupted networks that caused the economic collapse and offers a plan of action to help our country get back on track.
X-ALT-DESC;FMTTYPE=text/html:Could the global economic meltdown of the last few years have been prevented? Ferguson believes the crisis was no accident. After ''Inside Job'' won the 2011 Academy Award for Best Documentary Film\, Ferguson started his acceptance speech by criticizing the lack of accountability of the finance industry and Wall Street pointing out that three years after the horrific crisis started not a single financial executive had gone to jail.  \n\n''Predator Nation'' continues to examine the important issues raised in ''Inside Job''\, making the powerful case that an out-of-control finance industry took advantage of a deregulated atmosphere and purposely got rich at the expense of others. Through his extensive interviews with financial insiders and government officials\, Ferguson exposes the corrupted networks that caused the economic collapse and offers a plan of action to help our country get back on track.  \n
LOCATION:3921 Fabian Way\, Palo Alto\, CA 94303
UID:e.2469.1221
SEQUENCE:3
DTSTAMP:20260426T025519Z
URL:https://business.paloaltochamber.com/events/details/charles-ferguson-oscar-winner-for-the-inside-job-author-of-predator-nation-05-30-2012-1221
END:VEVENT

END:VCALENDAR
