BEGIN:VCALENDAR
VERSION:2.0
PRODID:-//ChamberMaster//Event Calendar 2.0//EN
METHOD:PUBLISH
X-PUBLISHED-TTL:P3D
REFRESH-INTERVAL:P3D
CALSCALE:GREGORIAN
BEGIN:VEVENT
DTSTART:20110120T010000Z
DTEND:20110119T230000Z
X-MICROSOFT-CDO-ALLDAYEVENT:FALSE
SUMMARY:Chamber Tri-City Mixer with Mountain View & Los Altos
DESCRIPTION:
X-ALT-DESC;FMTTYPE=text/html:
LOCATION:Crown Plaza Cabana Hotel\, Palo Alto\, CA 94306
UID:e.2469.1012
SEQUENCE:3
DTSTAMP:20260425T022928Z
URL:https://business.paloaltochamber.com/events/details/chamber-tri-city-mixer-with-mountain-view-los-altos-01-19-2011-1012
END:VEVENT

END:VCALENDAR
