BEGIN:VCALENDAR
VERSION:2.0
PRODID:-//ChamberMaster//Event Calendar 2.0//EN
METHOD:PUBLISH
X-PUBLISHED-TTL:P3D
REFRESH-INTERVAL:P3D
CALSCALE:GREGORIAN
BEGIN:VEVENT
DTSTART:20120324T030000Z
DTEND:20120324T030000Z
X-MICROSOFT-CDO-ALLDAYEVENT:FALSE
SUMMARY:Cat's-Paw by William Mastrosimone
DESCRIPTION:Cat's-Paw\n\nBy William Mastrosimone\n\nAn environmental terrorist obsessed with the pollution of the world's water supply bombs the EPA\, kills 27 people\, and takes a hostage. An investigative journalist is granted the interview of a lifetime. This taut game of cat and mouse between terrorist and reporter explores the themes of media responsibility\, environmental accountability\, and governmental effectiveness.\n"Entertaining\, informative\, thoughtful\, and scary." - The Weekly\, Seattle\n\nDirected by: Jeffrey Hoffman\n\nFeaturing:\nVictor:  Louis Schilling\nJessica:  Gwen Templeton\nDavid:  Keith Sullivan\nCathy: Sarah Lee\n \nProduction Credits:\nExecutive Producer: Meredith Hagedorn\nCompany Manage: Jason Arias\nProduction Stage Manager: Solia Martinez-Jacobs\nLighting Design: Steve Shumway\nSound Design: Jeffrey Lo\nProperties Design: Christina Sturken\nCostume Design: Scarlett Kellum\nSet Designer: Ron Gasparinetti\nMaster Carpenter: Neal Ormond\nGraphic Designer: Cindy Katila\nPress: Kimberly Wadycki\n \nMarch 23rd - April 15th\, 2012\n\n \nPay-What-You-Can Preview Thursday\, March 22nd @ 8pm\nOpening night gala March 23rd after the show\nTalkback with the director and cast after the show on Sunday\, April 8th\n\n \n \nThursdays – Saturdays @ 8pm\, Sundays @ 2pm \n\nBuy your tickets today online or by calling 1-800-838-3006!  \n\n\n\nPARKING ALERT: On March 31st the city is shutting down High Street between University and Hamilton (right behind Dragon) for an event. The parking garage on Alma will be open from the Alma Street side\, but expect parking to be difficult so allow for a few extra minutes for parking. The parking garage under City Hall generally has parking availability and is only a few blocks up Hamilton.\n\nFree street parking after 3pm\, free parking garage on the corner of Alma & University\, \nor $4 to park across the street in the Caltrain parking lot (pay station on train platform).
X-ALT-DESC;FMTTYPE=text/html:Cat's-Paw\n\nBy William Mastrosimone\n\nAn environmental terrorist obsessed with the pollution of the world's water supply bombs the EPA\, kills 27 people\, and takes a hostage. An investigative journalist is granted the interview of a lifetime. This taut game of cat and mouse between terrorist and reporter explores the themes of media responsibility\, environmental accountability\, and governmental effectiveness.\n"Entertaining\, informative\, thoughtful\, and scary." - The Weekly\, Seattle\n\nDirected by: Jeffrey Hoffman\n\nFeaturing:\nVictor:  Louis Schilling\nJessica:  Gwen Templeton\nDavid:  Keith Sullivan\nCathy: Sarah Lee\n \nProduction Credits:\nExecutive Producer: Meredith Hagedorn\nCompany Manage: Jason Arias\nProduction Stage Manager: Solia Martinez-Jacobs\nLighting Design: Steve Shumway\nSound Design: Jeffrey Lo\nProperties Design: Christina Sturken\nCostume Design: Scarlett Kellum\nSet Designer: Ron Gasparinetti\nMaster Carpenter: Neal Ormond\nGraphic Designer: Cindy Katila\nPress: Kimberly Wadycki\n \nMarch 23rd - April 15th\, 2012\n\n \nPay-What-You-Can Preview Thursday\, March 22nd @ 8pm\nOpening night gala March 23rd after the show\nTalkback with the director and cast after the show on Sunday\, April 8th\n\n \n \nThursdays – Saturdays @ 8pm\, Sundays @ 2pm \n\nBuy your tickets today online or by calling 1-800-838-3006!  \n\n\n\nPARKING ALERT: On March 31st the city is shutting down High Street between University and Hamilton (right behind Dragon) for an event. The parking garage on Alma will be open from the Alma Street side\, but expect parking to be difficult so allow for a few extra minutes for parking. The parking garage under City Hall generally has parking availability and is only a few blocks up Hamilton.\n\nFree street parking after 3pm\, free parking garage on the corner of Alma & University\, \nor $4 to park across the street in the Caltrain parking lot (pay station on train platform). 
LOCATION:535 Alma Street\, Palo Alto\, CA 94301
UID:e.2469.1195
SEQUENCE:3
DTSTAMP:20260425T232532Z
URL:https://business.paloaltochamber.com/events/details/cat-s-paw-by-william-mastrosimone-03-23-2012-1195
END:VEVENT

END:VCALENDAR
