BEGIN:VCALENDAR
VERSION:2.0
PRODID:-//ChamberMaster//Event Calendar 2.0//EN
METHOD:PUBLISH
X-PUBLISHED-TTL:P3D
REFRESH-INTERVAL:P3D
CALSCALE:GREGORIAN
BEGIN:VEVENT
DTSTART:20120519T230000Z
DTEND:20120520T010000Z
X-MICROSOFT-CDO-ALLDAYEVENT:FALSE
SUMMARY:Cantabile Youth Singers of Silicon Valley Spring Concert
DESCRIPTION:Cantabile Youth Singers serves the youth of Silicon Valley with a broad set of choirs beginning with Preparatory\, growing to Intermediate and then attaining extensive professional experience with Ensemble and Vocalise.  Each year students are placed into the choir that best matches their current skill level. Under the guidance of the Cantabile Youth Singers world class artistic staff studients are developed into skilled musicians comfortable singing in many styles from many cultures.
X-ALT-DESC;FMTTYPE=text/html:Cantabile Youth Singers serves the youth of Silicon Valley with a broad set of choirs beginning with Preparatory\, growing to Intermediate and then attaining extensive professional experience with Ensemble and Vocalise.  Each year students are placed into the choir that best matches their current skill level. Under the guidance of the Cantabile Youth Singers world class artistic staff studients are developed into skilled musicians comfortable singing in many styles from many cultures.  \n
LOCATION:1675 Winchester Boulevard\, Campbell\, CA 95008
UID:e.2469.1212
SEQUENCE:3
DTSTAMP:20260426T025520Z
URL:https://business.paloaltochamber.com/events/details/cantabile-youth-singers-of-silicon-valley-spring-concert-05-19-2012-1212
END:VEVENT

END:VCALENDAR
