BEGIN:VCALENDAR
VERSION:2.0
PRODID:-//ChamberMaster//Event Calendar 2.0//EN
METHOD:PUBLISH
X-PUBLISHED-TTL:P3D
REFRESH-INTERVAL:P3D
CALSCALE:GREGORIAN
BEGIN:VEVENT
DTSTART:20120316T020000Z
DTEND:20120316T020000Z
X-MICROSOFT-CDO-ALLDAYEVENT:FALSE
SUMMARY:Button History
DESCRIPTION:Join us for an evening exploring the fascinating world of buttons and their use. Renowned local collector Donnis Stoner will exhibit her collection of historic practical and whimsical buttons. Free for Members/$5 Non-Members
X-ALT-DESC;FMTTYPE=text/html:Join us for an evening exploring the fascinating world of buttons and their use. Renowned local collector Donnis Stoner will exhibit her collection of historic practical and whimsical buttons. Free for Members/$5 Non-Members
LOCATION:351 Homer Avenue\, Palo Alto\, CA 94301
UID:e.2469.1174
SEQUENCE:3
DTSTAMP:20260425T232049Z
URL:https://business.paloaltochamber.com/events/details/button-history-03-15-2012-1174
END:VEVENT

END:VCALENDAR
