BEGIN:VCALENDAR
VERSION:2.0
PRODID:-//ChamberMaster//Event Calendar 2.0//EN
METHOD:PUBLISH
X-PUBLISHED-TTL:P3D
REFRESH-INTERVAL:P3D
CALSCALE:GREGORIAN
BEGIN:VEVENT
DTSTART:20110129T183000Z
DTEND:20110129T203000Z
X-MICROSOFT-CDO-ALLDAYEVENT:FALSE
SUMMARY:BOUNTIFUL BERRIES
DESCRIPTION:To register call 650-493-6072 or http://bountifulberries.eventbrite.com/ Cost $31\nLearn how to successfully grow blueberries\, raspberries\, blackberries and mulberries for delicious berry harvests May through late fall. Mulberries are thornless producers of wonderful seedless berries\, with flavor like a combination of many different berries. You will learn the best varieties of each and specific planting instructions including soil amendments and\ntrellising. \no Nancy offers a Center tour of her favorite and must-have products after the class.
X-ALT-DESC;FMTTYPE=text/html:To register call 650-493-6072 or http://bountifulberries.eventbrite.com/ Cost $31\nLearn how to successfully grow blueberries\, raspberries\, blackberries and mulberries for delicious berry harvests May through late fall. Mulberries are thornless producers of wonderful seedless berries\, with flavor like a combination of many different berries. You will learn the best varieties of each and specific planting instructions including soil amendments and\ntrellising. \no Nancy offers a Center tour of her favorite and must-have products after the class.
LOCATION:559 College Ave.\, Palo Alto\, CA 94306
UID:e.2469.1017
SEQUENCE:3
DTSTAMP:20260425T002656Z
URL:https://business.paloaltochamber.com/events/details/bountiful-berries-01-29-2011-1017
END:VEVENT

END:VCALENDAR
