BEGIN:VCALENDAR
VERSION:2.0
PRODID:-//ChamberMaster//Event Calendar 2.0//EN
METHOD:PUBLISH
X-PUBLISHED-TTL:P3D
REFRESH-INTERVAL:P3D
CALSCALE:GREGORIAN
BEGIN:VEVENT
DTSTART:20120123T003000Z
DTEND:20120123T030000Z
X-MICROSOFT-CDO-ALLDAYEVENT:FALSE
SUMMARY:Be the Match Bone Marrow Registration
DESCRIPTION:Dragon Productions Theatre\, in cooperation with Be the Match and the Leukemia and Lymphoma Society of Silicon Valley\, is pleased to announce a bone marrow registration drive at the Dragon Theatre on Sunday\, January 22nd from 4:30 - 7pm. \n \nAll are welcome to sign up for this critical drive for the National Bone Marrow Program. Thousands of patients and other life-threatening diseases depend on the "Be the Match" Registry to find a match. A bone marrow transplant is a life-changing treatment for people with blood cancers like leukemia and lymphoma\, sickle cell\, and other life-threatening diseases. Transplant may be a patient's only hope for a cure\, but patients need donors who are a close match. \n \nRegistration is simple\, and involves completing a health history form and giving a swab of cheek cells. A person must be between the ages of 18 and 60\, meet the health guidelines\, and be willing to donate to any patient in need. Donors with diverse racial or ethnic backgrounds are especially critical. Individuals will become a member of the National Marrow Donor Program (NMDP) Be the Match Registry. \n \nDragon Theatre on Sunday\, January 22nd from 4:30 – 7pm
X-ALT-DESC;FMTTYPE=text/html:Dragon Productions Theatre\, in cooperation with Be the Match and the Leukemia and Lymphoma Society of Silicon Valley\, is pleased to announce a bone marrow registration drive at the Dragon Theatre on Sunday\, January 22nd from 4:30 - 7pm. \n \nAll are welcome to sign up for this critical drive for the National Bone Marrow Program. Thousands of patients and other life-threatening diseases depend on the "Be the Match" Registry to find a match. A bone marrow transplant is a life-changing treatment for people with blood cancers like leukemia and lymphoma\, sickle cell\, and other life-threatening diseases. Transplant may be a patient's only hope for a cure\, but patients need donors who are a close match. \n \nRegistration is simple\, and involves completing a health history form and giving a swab of cheek cells. A person must be between the ages of 18 and 60\, meet the health guidelines\, and be willing to donate to any patient in need. Donors with diverse racial or ethnic backgrounds are especially critical. Individuals will become a member of the National Marrow Donor Program (NMDP) Be the Match Registry. \n \nDragon Theatre on Sunday\, January 22nd from 4:30 – 7pm
LOCATION:535 Alma Street\, Palo Alto\, CA 94301
UID:e.2469.1150
SEQUENCE:3
DTSTAMP:20260425T201003Z
URL:https://business.paloaltochamber.com/events/details/be-the-match-bone-marrow-registration-01-22-2012-1150
END:VEVENT

END:VCALENDAR
