BEGIN:VCALENDAR
VERSION:2.0
PRODID:-//ChamberMaster//Event Calendar 2.0//EN
METHOD:PUBLISH
X-PUBLISHED-TTL:P3D
REFRESH-INTERVAL:P3D
CALSCALE:GREGORIAN
BEGIN:VEVENT
DTSTART:20110205T183000Z
DTEND:20110205T203000Z
X-MICROSOFT-CDO-ALLDAYEVENT:FALSE
SUMMARY:BACKYARD DECORATING: HOW TO CREATE AN ENCHANTING GARDEN
DESCRIPTION:To register call 650-493-6072 or http://backyarddecorating.eventbrite.com/  cost $31 \nDo you love to putter in your garden\, improve it and tweak it? Would you like your garden to look and feel more creative? Learn how to add humor\, mystery and spirit to your garden using unpredictable objects. You'll be inspired to create a garden that truly expresses who you are. Handouts included.
X-ALT-DESC;FMTTYPE=text/html:To register call 650-493-6072 or http://backyarddecorating.eventbrite.com/  cost $31 \nDo you love to putter in your garden\, improve it and tweak it? Would you like your garden to look and feel more creative? Learn how to add humor\, mystery and spirit to your garden using unpredictable objects. You'll be inspired to create a garden that truly expresses who you are. Handouts included.
LOCATION:559 College Ave.\, Palo Alto\, CA 94306
UID:e.2469.1016
SEQUENCE:3
DTSTAMP:20260425T022751Z
URL:https://business.paloaltochamber.com/events/details/backyard-decorating-how-to-create-an-enchanting-garden-02-05-2011-1016
END:VEVENT

END:VCALENDAR
