BEGIN:VCALENDAR
VERSION:2.0
PRODID:-//ChamberMaster//Event Calendar 2.0//EN
METHOD:PUBLISH
X-PUBLISHED-TTL:P3D
REFRESH-INTERVAL:P3D
CALSCALE:GREGORIAN
BEGIN:VEVENT
DTSTART:20110618T173000Z
DTEND:20110618T193000Z
X-MICROSOFT-CDO-ALLDAYEVENT:FALSE
SUMMARY:BACKYARD CHICKENS
DESCRIPTION:Register at http://backyardchickenkeeping.eventbrite.com/ or by calling 650-493-6072.Cost $31 + $7 materials fee Learn everything you need to raise happy hens\, including a hen house and yard set-up\, nesting boxes\, water\, feed\, local suppliers\, caring for your hens and chicks and favorite crops to grow for your chickens. You will see how easy it is to raise chickens and how great a role they play in creating a healthy organic vegetable garden. Give them food scraps and garden greens - they give us eggs and fertilizer. Chickens are wonderful pets that fully participate and contribute to the whole. Garden snack included. Meet at Common Ground then carpool to Jody's garden and hen house in Woodside. Return to Common Ground by 1:30 pm.
X-ALT-DESC;FMTTYPE=text/html:Register at http://backyardchickenkeeping.eventbrite.com/ or by calling 650-493-6072.Cost $31 + $7 materials fee Learn everything you need to raise happy hens\, including a hen house and yard set-up\, nesting boxes\, water\, feed\, local suppliers\, caring for your hens and chicks and favorite crops to grow for your chickens. You will see how easy it is to raise chickens and how great a role they play in creating a healthy organic vegetable garden. Give them food scraps and garden greens - they give us eggs and fertilizer. Chickens are wonderful pets that fully participate and contribute to the whole. Garden snack included. Meet at Common Ground then carpool to Jody's garden and hen house in Woodside. Return to Common Ground by 1:30 pm. 
LOCATION:559 College Ave.\, Palo Alto\, CA 94306
UID:e.2469.1058
SEQUENCE:3
DTSTAMP:20260425T102242Z
URL:https://business.paloaltochamber.com/events/details/backyard-chickens-06-18-2011-1058
END:VEVENT

END:VCALENDAR
