BEGIN:VCALENDAR
VERSION:2.0
PRODID:-//ChamberMaster//Event Calendar 2.0//EN
METHOD:PUBLISH
X-PUBLISHED-TTL:P3D
REFRESH-INTERVAL:P3D
CALSCALE:GREGORIAN
BEGIN:VEVENT
DTSTART:20120512T210000Z
DTEND:20120513T000000Z
X-MICROSOFT-CDO-ALLDAYEVENT:FALSE
SUMMARY:BACKYARD CHICKENS
DESCRIPTION:Visit a magnificent organic garden and chicken coop and learn everything you need to raise happy hens: hen house and yard set-up\, nesting boxes\, water\, feed\, local suppliers\, caring for your chicks and hens\, and favorite crops to grow for them. You will see how easy it is to raise chickens and how great a role they play in creating a healthy organic vegetable garden. We give them food scraps and garden greens – they give us eggs and fertilizer! Chickens are wonderful pets that participate and contribute to the whole.\nMeet at Common Ground then carpool to Jody's garden in Woodside.\nJody has raised backyard chickens in her organic vegetable and herb gardens for many years\, and offers backyard chicken and organic garden consultations.\nJody Main\nSaturday\, May 12\, 2012\n2:00 - 5:00\n$39 + $4 materials fee
X-ALT-DESC;FMTTYPE=text/html:Visit a magnificent organic garden and chicken coop and learn everything you need to raise happy hens: hen house and yard set-up\, nesting boxes\, water\, feed\, local suppliers\, caring for your chicks and hens\, and favorite crops to grow for them. You will see how easy it is to raise chickens and how great a role they play in creating a healthy organic vegetable garden. We give them food scraps and garden greens – they give us eggs and fertilizer! Chickens are wonderful pets that participate and contribute to the whole.\nMeet at Common Ground then carpool to Jody's garden in Woodside.\nJody has raised backyard chickens in her organic vegetable and herb gardens for many years\, and offers backyard chicken and organic garden consultations.\nJody Main\nSaturday\, May 12\, 2012\n2:00 - 5:00\n$39 + $4 materials fee\n \n
LOCATION:559 College Ave.\, Palo Alto\, C 94306
UID:e.2469.1190
SEQUENCE:3
DTSTAMP:20260426T025024Z
URL:https://business.paloaltochamber.com/events/details/backyard-chickens-05-12-2012-1190
END:VEVENT

END:VCALENDAR
