BEGIN:VCALENDAR
VERSION:2.0
PRODID:-//ChamberMaster//Event Calendar 2.0//EN
METHOD:PUBLISH
X-PUBLISHED-TTL:P3D
REFRESH-INTERVAL:P3D
CALSCALE:GREGORIAN
BEGIN:VEVENT
DTSTART:20120420T004500Z
DTEND:20120420T021500Z
X-MICROSOFT-CDO-ALLDAYEVENT:FALSE
SUMMARY:Back Care Yoga Class
DESCRIPTION:Learn gentle and easy back care practices. You can feel better now. It is a small class so you get extra love and attention! Join me Thursday evening April 19th at the California Yoga Center in Palo Alto!  ? http://patriciajoy.wordpress.com/
X-ALT-DESC;FMTTYPE=text/html:Learn gentle and easy back care practices. You can feel better now. It is a small class so you get extra love and attention! Join me Thursday evening April 19th at the California Yoga Center in Palo Alto!  ? http://patriciajoy.wordpress.com/
LOCATION:541 Cowper Ave \, Palo Alto \, CA 94306
UID:e.2469.1204
SEQUENCE:3
DTSTAMP:20260426T025116Z
URL:https://business.paloaltochamber.com/events/details/back-care-yoga-class-04-19-2012-1204
END:VEVENT

END:VCALENDAR
