BEGIN:VCALENDAR
VERSION:2.0
PRODID:-//ChamberMaster//Event Calendar 2.0//EN
METHOD:PUBLISH
X-PUBLISHED-TTL:P3D
REFRESH-INTERVAL:P3D
CALSCALE:GREGORIAN
BEGIN:VEVENT
DTSTART:20120427T004500Z
DTEND:20120427T021500Z
X-MICROSOFT-CDO-ALLDAYEVENT:FALSE
SUMMARY:Anusara Yoga Class
DESCRIPTION:Learn to move from the inside out. Take care of your body and your back! You will practice gentle poses to strengthen your core. Learn how to best use your legs as the foundation when bending and lifting. Learn how to prepare your muscles before beginning\, proper stretches for during\, and how to harvest the benefits of your connection to yourself. You can feel better now. Receive extra love and attention! Join me Thursday evening April 19th at the California Yoga Center in Palo Alto!  ? http://patriciajoy.wordpress.com/
X-ALT-DESC;FMTTYPE=text/html: Learn to move from the inside out. Take care of your body and your back! You will practice gentle poses to strengthen your core. Learn how to best use your legs as the foundation when bending and lifting. Learn how to prepare your muscles before beginning\, proper stretches for during\, and how to harvest the benefits of your connection to yourself. You can feel better now. Receive extra love and attention! Join me Thursday evening April 19th at the California Yoga Center in Palo Alto!  ? http://patriciajoy.wordpress.com/
LOCATION:541 Cowper Ave \, Palo Alto \, CA 94306
UID:e.2469.1202
SEQUENCE:3
DTSTAMP:20260426T010912Z
URL:https://business.paloaltochamber.com/events/details/anusara-yoga-class-04-26-2012-1202
END:VEVENT

END:VCALENDAR
