BEGIN:VCALENDAR
VERSION:2.0
PRODID:-//ChamberMaster//Event Calendar 2.0//EN
METHOD:PUBLISH
X-PUBLISHED-TTL:P3D
REFRESH-INTERVAL:P3D
CALSCALE:GREGORIAN
BEGIN:VEVENT
DTSTART:20111209T190000Z
DTEND:20120429T230000Z
X-MICROSOFT-CDO-ALLDAYEVENT:FALSE
SUMMARY:Antique Toys\, 1870-1930
DESCRIPTION:All Aboard! for the largest exhibition of antique toy trains\, and other metal toys the Museum of American Heritage has ever mounted. Opening on Friday December 9th at MOAH\, Antique Toys\, 1870-1930 showcases exquisite and rare toys from local collectors.  In addition to early American toys\, the exhibit also features turn-of-the-century toy trains and their accessories from fine European toymakers such as Marklin and Bing. Visitors young and old will delight in discovering playthings from an earlier age.  Free admission. Open every Friday\, Saturday and Sunday.\n\nClosed Dec. 24\, 25\, 31 & Jan 1.
X-ALT-DESC;FMTTYPE=text/html:All Aboard! for the largest exhibition of antique toy trains\, and other metal toys the Museum of American Heritage has ever mounted. Opening on Friday December 9th at MOAH\, Antique Toys\, 1870-1930 showcases exquisite and rare toys from local collectors.  In addition to early American toys\, the exhibit also features turn-of-the-century toy trains and their accessories from fine European toymakers such as Marklin and Bing. Visitors young and old will delight in discovering playthings from an earlier age.  Free admission. Open every Friday\, Saturday and Sunday.\n\nClosed Dec. 24\, 25\, 31 & Jan 1.
LOCATION:Museum of American Heritage\, Palo Alto\, CA 94301
UID:e.2469.1139
SEQUENCE:3
DTSTAMP:20260425T201448Z
URL:https://business.paloaltochamber.com/events/details/antique-toys-1870-1930-12-09-2011-1139
END:VEVENT

END:VCALENDAR
