BEGIN:VCALENDAR
VERSION:2.0
PRODID:-//ChamberMaster//Event Calendar 2.0//EN
METHOD:PUBLISH
X-PUBLISHED-TTL:P3D
REFRESH-INTERVAL:P3D
CALSCALE:GREGORIAN
BEGIN:VEVENT
DTSTART:20120419T120000Z
DTEND:20120420T060000Z
X-MICROSOFT-CDO-ALLDAYEVENT:FALSE
SUMMARY:4th Annual Dine Out for Packard Event
DESCRIPTION:Support your community's children's hospital!\n\nPlease join us for the 4th annual Dine Out for Packard day\, benefiting Lucile Packard Children's Hospital. On Thursday\, April 19\, restaurants in Palo Alto\, Menlo Park\, and Los Altos will donate a percentage of total net sales from breakfast\, lunch\, and/or dinner.\n\nTo date\, over 70 restaurants have donated nearly $36\,000 to support patients and families at the Hospital. \n\nPlease check out our site frequently for new restaurant sign-ups\, and to plan your breakfast\, lunch\, and dinner accordingly on April 19!  Don't forget to tell your friends!
X-ALT-DESC;FMTTYPE=text/html:Support your community's children's hospital!\n\nPlease join us for the 4th annual Dine Out for Packard day\, benefiting Lucile Packard Children's Hospital. On Thursday\, April 19\, restaurants in Palo Alto\, Menlo Park\, and Los Altos will donate a percentage of total net sales from breakfast\, lunch\, and/or dinner.\n\nTo date\, over 70 restaurants have donated nearly $36\,000 to support patients and families at the Hospital. \n\nPlease check out our site frequently for new restaurant sign-ups\, and to plan your breakfast\, lunch\, and dinner accordingly on April 19!  Don't forget to tell your friends!\n\n
LOCATION:Palo Alto\, Menlo Park\, Los Altos\, Palo Alto\, Menlo Park\, Los Alt\, CA 94301
UID:e.2469.1197
SEQUENCE:3
DTSTAMP:20260426T011102Z
URL:https://business.paloaltochamber.com/events/details/4th-annual-dine-out-for-packard-event-04-19-2012-1197
END:VEVENT

END:VCALENDAR
