BEGIN:VCALENDAR
VERSION:2.0
PRODID:-//ChamberMaster//Event Calendar 2.0//EN
METHOD:PUBLISH
X-PUBLISHED-TTL:P3D
REFRESH-INTERVAL:P3D
CALSCALE:GREGORIAN
BEGIN:VEVENT
DTSTART:20111016T000000Z
DTEND:20111016T030000Z
X-MICROSOFT-CDO-ALLDAYEVENT:FALSE
SUMMARY:2011 Light the Night Walk
DESCRIPTION:Held on fall evenings in communities across the U.S and Canada\, Light The Night Walk is The Leukemia and Lymphoma Society's walk and fundraising event to pay tribute and bring hope to people battling cancer. Thousands of participants raise funds for vital\, lifesaving research and patient services and on these special nights\, they carry illuminated balloons in a show of support from a caring community.\n\nAnyone can take part\; children\, adults and seniors are all welcome. This is a casual fundraising walk with no fitness requirements. There are many ways you can help. You can register to walk individually or as part of a team\; just make a donation online\; or become a volunteer or sponsor/partner.\n\n5pm Festivities\n7pm Walk\n\n10/1: San Mateo - Central Park\n10/15: Palo Alto - Palo Alto HS\n10/22:  San Jose - Arena Green
X-ALT-DESC;FMTTYPE=text/html:Held on fall evenings in communities across the U.S and Canada\, Light The Night Walk is The Leukemia and Lymphoma Society's walk and fundraising event to pay tribute and bring hope to people battling cancer. Thousands of participants raise funds for vital\, lifesaving research and patient services and on these special nights\, they carry illuminated balloons in a show of support from a caring community.\n\nAnyone can take part\; children\, adults and seniors are all welcome. This is a casual fundraising walk with no fitness requirements. There are many ways you can help. You can register to walk individually or as part of a team\; just make a donation online\; or become a volunteer or sponsor/partner.\n\n5pm Festivities\n7pm Walk\n\n10/1: San Mateo - Central Park\n10/15: Palo Alto - Palo Alto HS\n10/22:  San Jose - Arena Green\n
LOCATION:50 Embarcadero Road\, Palo Alto\, CA 94301
UID:e.2469.1043
SEQUENCE:3
DTSTAMP:20260425T165401Z
URL:https://business.paloaltochamber.com/events/details/2011-light-the-night-walk-10-15-2011-1043
END:VEVENT

END:VCALENDAR
