BEGIN:VCALENDAR
VERSION:2.0
PRODID:-//ChamberMaster//Event Calendar 2.0//EN
METHOD:PUBLISH
X-PUBLISHED-TTL:P3D
REFRESH-INTERVAL:P3D
CALSCALE:GREGORIAN
BEGIN:VEVENT
DTSTART:20111118T013000Z
DTEND:20111118T043000Z
X-MICROSOFT-CDO-ALLDAYEVENT:FALSE
SUMMARY:14th Annual Shining Stars Rising Above Stigma Benefit 2011
DESCRIPTION:Come join us in a celebration of achievements. \nMomentum for Mental Health invites you to the 14th Annual Shining Stars Rising Above Stigma Benefit on November 17\, 2011\, at the Crowne Plaza Cabaña Hotel in Palo Alto\, California\, where we will honor the exemplary efforts of some of our major contributors. Jessie Close\, and her son Calen Pick will share their personal struggles with mental illness and inspire you with their stories at the event!
X-ALT-DESC;FMTTYPE=text/html:Come join us in a celebration of achievements. \nMomentum for Mental Health invites you to the 14th Annual Shining Stars Rising Above Stigma Benefit on November 17\, 2011\, at the Crowne Plaza Cabaña Hotel in Palo Alto\, California\, where we will honor the exemplary efforts of some of our major contributors. Jessie Close\, and her son Calen Pick will share their personal struggles with mental illness and inspire you with their stories at the event!
LOCATION:Crowne Plaza Cabaña Hotel\, \, Palo Alto\, CA 94306
UID:e.2469.1112
SEQUENCE:3
DTSTAMP:20260425T171154Z
URL:https://business.paloaltochamber.com/events/details/14th-annual-shining-stars-rising-above-stigma-benefit-2011-11-17-2011-1112
END:VEVENT

END:VCALENDAR
