BEGIN:VCALENDAR
VERSION:2.0
PRODID:-//ChamberMaster//Event Calendar 2.0//EN
METHOD:PUBLISH
X-PUBLISHED-TTL:P3D
REFRESH-INTERVAL:P3D
CALSCALE:GREGORIAN
BEGIN:VEVENT
DTSTART:20220924T160000Z
DTEND:20220924T230000Z
X-MICROSOFT-CDO-ALLDAYEVENT:FALSE
SUMMARY:14th Annual International Pivotal Response Treatment (PRT) Conference for ASD
DESCRIPTION:Evidence-based naturalistic intervention strategies focused on increasing motivation Specific presentation topics and guest speakers to be announced soon! Families\, school staff\, and other professionals welcome 10% discount for groups of 4 or more
X-ALT-DESC;FMTTYPE=text/html:Evidence-based naturalistic intervention strategies focused on increasing motivation Specific presentation topics and guest speakers to be announced soon! Families\, school staff\, and other professionals welcome 10% discount for groups of 4 or more
LOCATION:Virtual Event
UID:e.2469.13993
SEQUENCE:3
DTSTAMP:20260422T062735Z
URL:https://business.paloaltochamber.com/events/details/14th-annual-international-pivotal-response-treatment-prt-conference-for-asd-13993
END:VEVENT

END:VCALENDAR
